BEGIN:VCALENDAR
VERSION:2.0
PRODID:-//calendar/web//NONSGML v1.0//EN
BEGIN:VEVENT
UID:1980
DTSTAMP:20221028T210000Z
DTSTART:20221028T210000Z
DTEND:20221029T205900Z
SUMMARY:Cumhuriyet Bayramı
DESCRIPTION:
END:VEVENT
END:VCALENDAR
