BEGIN:VCALENDAR
VERSION:2.0
PRODID:-//calendar/web//NONSGML v1.0//EN
BEGIN:VEVENT
UID:1981
DTSTAMP:20221118T210000Z
DTSTART:20221118T210000Z
DTEND:20221127T205900Z
SUMMARY:Güz Yarıyılı Ara Sınav Tarihleri
DESCRIPTION:
END:VEVENT
END:VCALENDAR
