BEGIN:VCALENDAR
VERSION:2.0
PRODID:-//calendar/web//NONSGML v1.0//EN
BEGIN:VEVENT
UID:1987
DTSTAMP:20230205T210000Z
DTSTART:20230205T210000Z
DTEND:20230220T205900Z
SUMMARY:Bahar Yarıyılı Ders Kaydı
DESCRIPTION:
END:VEVENT
END:VCALENDAR
