BEGIN:VCALENDAR
VERSION:2.0
PRODID:-//calendar/web//NONSGML v1.0//EN
BEGIN:VEVENT
UID:1988
DTSTAMP:20230501T210000Z
DTSTART:20230501T210000Z
DTEND:20230507T205900Z
SUMMARY:Bahar Yarıyılı Ara Sınav Tarihleri
DESCRIPTION:
END:VEVENT
END:VCALENDAR
