BEGIN:VCALENDAR
VERSION:2.0
PRODID:-//calendar/web//NONSGML v1.0//EN
BEGIN:VEVENT
UID:1990
DTSTAMP:20230419T210000Z
DTSTART:20230419T210000Z
DTEND:20230420T205900Z
SUMMARY:Ramazan Bayramı Arefesi
DESCRIPTION:
END:VEVENT
END:VCALENDAR
