BEGIN:VCALENDAR
VERSION:2.0
PRODID:-//calendar/web//NONSGML v1.0//EN
BEGIN:VEVENT
UID:1991
DTSTAMP:20230420T210000Z
DTSTART:20230420T210000Z
DTEND:20230421T205900Z
SUMMARY:Ramazan Bayramı - 1. Gün
DESCRIPTION:
END:VEVENT
END:VCALENDAR
