BEGIN:VCALENDAR
VERSION:2.0
PRODID:-//calendar/web//NONSGML v1.0//EN
BEGIN:VEVENT
UID:1997
DTSTAMP:20230422T210000Z
DTSTART:20230422T210000Z
DTEND:20230423T205900Z
SUMMARY:Ulusal Egemenlik ve Çocuk Bayramı
DESCRIPTION:
END:VEVENT
END:VCALENDAR
