BEGIN:VCALENDAR
VERSION:2.0
PRODID:-//calendar/web//NONSGML v1.0//EN
BEGIN:VEVENT
UID:2000
DTSTAMP:20230430T210000Z
DTSTART:20230430T210000Z
DTEND:20230501T205900Z
SUMMARY:Emek ve Dayanışma Günü (İşçi Bayramı)
DESCRIPTION:
END:VEVENT
END:VCALENDAR
