BEGIN:VCALENDAR
VERSION:2.0
PRODID:-//calendar/web//NONSGML v1.0//EN
BEGIN:VEVENT
UID:2003
DTSTAMP:20230518T210000Z
DTSTART:20230518T210000Z
DTEND:20230519T205900Z
SUMMARY:Atatürk'ü Anma, Gençlik ve Spor Bayramı
DESCRIPTION:
END:VEVENT
END:VCALENDAR
