BEGIN:VCALENDAR
VERSION:2.0
PRODID:-//calendar/web//NONSGML v1.0//EN
BEGIN:VEVENT
UID:2020
DTSTAMP:20230626T210000Z
DTSTART:20230626T210000Z
DTEND:20230627T205900Z
SUMMARY:Kurban Bayramı Arefe
DESCRIPTION:
END:VEVENT
END:VCALENDAR
