BEGIN:VCALENDAR
VERSION:2.0
PRODID:-//calendar/web//NONSGML v1.0//EN
BEGIN:VEVENT
UID:2025
DTSTAMP:20230628T210000Z
DTSTART:20230628T210000Z
DTEND:20230629T205900Z
SUMMARY:Kurban Bayramı 2. Gün
DESCRIPTION:
END:VEVENT
END:VCALENDAR
