BEGIN:VCALENDAR
VERSION:2.0
PRODID:-//calendar/web//NONSGML v1.0//EN
BEGIN:VEVENT
UID:2026
DTSTAMP:20230629T210000Z
DTSTART:20230629T210000Z
DTEND:20230630T205900Z
SUMMARY:Kurban Bayramı 3. Gün
DESCRIPTION:
END:VEVENT
END:VCALENDAR
