BEGIN:VCALENDAR
VERSION:2.0
PRODID:-//calendar/web//NONSGML v1.0//EN
BEGIN:VEVENT
UID:2027
DTSTAMP:20230630T210000Z
DTSTART:20230630T210000Z
DTEND:20230701T205900Z
SUMMARY:Kurban Bayramı 4.Gün
DESCRIPTION:
END:VEVENT
END:VCALENDAR
