BEGIN:VCALENDAR
VERSION:2.0
PRODID:-//calendar/web//NONSGML v1.0//EN
BEGIN:VEVENT
UID:2030
DTSTAMP:20220630T210000Z
DTSTART:20220630T210000Z
DTEND:20230630T205900Z
SUMMARY:Tıp Fakültesi 6. Sınıflar Dersler
DESCRIPTION:
END:VEVENT
END:VCALENDAR
