BEGIN:VCALENDAR
VERSION:2.0
PRODID:-//calendar/web//NONSGML v1.0//EN
BEGIN:VEVENT
UID:2031
DTSTAMP:20220904T210000Z
DTSTART:20220904T210000Z
DTEND:20230623T205900Z
SUMMARY:Tıp Fakültesi 2. ,3. Sınıflar Dersler
DESCRIPTION:
END:VEVENT
END:VCALENDAR
