BEGIN:VCALENDAR
VERSION:2.0
PRODID:-//calendar/web//NONSGML v1.0//EN
BEGIN:VEVENT
UID:2040
DTSTAMP:20230129T210000Z
DTSTART:20230129T210000Z
DTEND:20230210T205900Z
SUMMARY:Tıp Fakültesi Yarıyıl Tatili
DESCRIPTION:
END:VEVENT
END:VCALENDAR
