BEGIN:VCALENDAR
VERSION:2.0
PRODID:-//calendar/web//NONSGML v1.0//EN
BEGIN:VEVENT
UID:2046
DTSTAMP:20230611T210000Z
DTSTART:20230611T210000Z
DTEND:20230616T205900Z
SUMMARY:Tıp Fakültesi 5. Sınıflar Bahar Bütünleme Sınav Tarihleri
DESCRIPTION:
END:VEVENT
END:VCALENDAR
