BEGIN:VCALENDAR
VERSION:2.0
PRODID:-//calendar/web//NONSGML v1.0//EN
BEGIN:VEVENT
UID:2048
DTSTAMP:20230714T210000Z
DTSTART:20230714T210000Z
DTEND:20230715T205900Z
SUMMARY:15 Temmuz Demokrasi ve Milli Birlik Günü
DESCRIPTION:
END:VEVENT
END:VCALENDAR
