BEGIN:VCALENDAR
VERSION:2.0
PRODID:-//calendar/web//NONSGML v1.0//EN
BEGIN:VEVENT
UID:2050
DTSTAMP:20230829T210000Z
DTSTART:20230829T210000Z
DTEND:20230830T205900Z
SUMMARY:Zafer Bayramı
DESCRIPTION:
END:VEVENT
END:VCALENDAR
