BEGIN:VCALENDAR
VERSION:2.0
PRODID:-//calendar/web//NONSGML v1.0//EN
BEGIN:VEVENT
UID:2069
DTSTAMP:20220913T210000Z
DTSTART:20220913T210000Z
DTEND:20220916T205900Z
SUMMARY:MÜYYES - GÜZ 
DESCRIPTION:
END:VEVENT
END:VCALENDAR
