BEGIN:VCALENDAR
VERSION:2.0
PRODID:-//calendar/web//NONSGML v1.0//EN
BEGIN:VEVENT
UID:2070
DTSTAMP:20220914T210000Z
DTSTART:20220914T210000Z
DTEND:20220915T205900Z
SUMMARY:FRANSIZCA YETERLİLİK SINAVI
DESCRIPTION:
END:VEVENT
END:VCALENDAR
