BEGIN:VCALENDAR
VERSION:2.0
PRODID:-//calendar/web//NONSGML v1.0//EN
BEGIN:VEVENT
UID:2071
DTSTAMP:20220915T210000Z
DTSTART:20220915T210000Z
DTEND:20220916T205900Z
SUMMARY:ALMANCA YETERLİLİK SINAVI
DESCRIPTION:
END:VEVENT
END:VCALENDAR
