BEGIN:VCALENDAR
VERSION:2.0
PRODID:-//calendar/web//NONSGML v1.0//EN
BEGIN:VEVENT
UID:2079
DTSTAMP:20221204T210000Z
DTSTART:20221204T210000Z
DTEND:20221205T205900Z
SUMMARY:Yabancı Diller Yüksekokulu Güz Yarıyılı 1. Ara Sınav Mazeret Sınavı
DESCRIPTION:
END:VEVENT
END:VCALENDAR
