BEGIN:VCALENDAR
VERSION:2.0
PRODID:-//calendar/web//NONSGML v1.0//EN
BEGIN:VEVENT
UID:2081
DTSTAMP:20221231T210000Z
DTSTART:20221231T210000Z
DTEND:20230101T205900Z
SUMMARY:Yılbaşı
DESCRIPTION:
END:VEVENT
END:VCALENDAR
