BEGIN:VCALENDAR
VERSION:2.0
PRODID:-//calendar/web//NONSGML v1.0//EN
BEGIN:VEVENT
UID:2085
DTSTAMP:20230118T210000Z
DTSTART:20230118T210000Z
DTEND:20230120T205900Z
SUMMARY:MÜYYES-KIŞ
DESCRIPTION:
END:VEVENT
END:VCALENDAR
