BEGIN:VCALENDAR
VERSION:2.0
PRODID:-//calendar/web//NONSGML v1.0//EN
BEGIN:VEVENT
UID:2086
DTSTAMP:20230122T210000Z
DTSTART:20230122T210000Z
DTEND:20230210T205900Z
SUMMARY:Yabancı Diller Dönem Arası
DESCRIPTION:
END:VEVENT
END:VCALENDAR
