BEGIN:VCALENDAR
VERSION:2.0
PRODID:-//calendar/web//NONSGML v1.0//EN
BEGIN:VEVENT
UID:2089
DTSTAMP:20230425T210000Z
DTSTART:20230425T210000Z
DTEND:20230428T205900Z
SUMMARY:Yabancı Diller Yüksekokulu Bahar Yarıyılı 3. Ara Sınav Dönemi
DESCRIPTION:
END:VEVENT
END:VCALENDAR
