BEGIN:VCALENDAR
VERSION:2.0
PRODID:-//calendar/web//NONSGML v1.0//EN
BEGIN:VEVENT
UID:2095
DTSTAMP:20230523T210000Z
DTSTART:20230523T210000Z
DTEND:20230526T205900Z
SUMMARY:Yabancı Diller Yüksekokulu Bahar Yarıyılı 4. Ara Sınav Dönemi
DESCRIPTION:
END:VEVENT
END:VCALENDAR
