BEGIN:VCALENDAR
VERSION:2.0
PRODID:-//calendar/web//NONSGML v1.0//EN
BEGIN:VEVENT
UID:2096
DTSTAMP:20230605T210000Z
DTSTART:20230605T210000Z
DTEND:20230606T205900Z
SUMMARY:Yabancı Diller Yüksekokulu Bahar Yarıyılı 4. Ara Sınav Mazeret Sınavı
DESCRIPTION:
END:VEVENT
END:VCALENDAR
