BEGIN:VCALENDAR
VERSION:2.0
PRODID:-//calendar/web//NONSGML v1.0//EN
BEGIN:VEVENT
UID:2097
DTSTAMP:20230613T210000Z
DTSTART:20230613T210000Z
DTEND:20230616T205900Z
SUMMARY:MÜYYES-BAHAR
DESCRIPTION:
END:VEVENT
END:VCALENDAR
