BEGIN:VCALENDAR
VERSION:2.0
PRODID:-//calendar/web//NONSGML v1.0//EN
BEGIN:VEVENT
UID:2099
DTSTAMP:20230702T210000Z
DTSTART:20230702T210000Z
DTEND:20230818T205900Z
SUMMARY:Yabancı Diller Yüksekokulu Yaz Okulu Dersler
DESCRIPTION:
END:VEVENT
END:VCALENDAR
