BEGIN:VCALENDAR
VERSION:2.0
PRODID:-//calendar/web//NONSGML v1.0//EN
BEGIN:VEVENT
UID:2109
DTSTAMP:20230122T210000Z
DTSTART:20230122T210000Z
DTEND:20230203T205900Z
SUMMARY:Diş Hekimliği Fakültesi Yarıyıl Tatili
DESCRIPTION:
END:VEVENT
END:VCALENDAR
