BEGIN:VCALENDAR
VERSION:2.0
PRODID:-//calendar/web//NONSGML v1.0//EN
BEGIN:VEVENT
UID:2111
DTSTAMP:20230205T210000Z
DTSTART:20230205T210000Z
DTEND:20230602T205900Z
SUMMARY:Diş Hekimliği Fakültesi Bahar Yarıyılı Dersler
DESCRIPTION:
END:VEVENT
END:VCALENDAR
