BEGIN:VCALENDAR
VERSION:2.0
PRODID:-//calendar/web//NONSGML v1.0//EN
BEGIN:VEVENT
UID:2112
DTSTAMP:20230205T210000Z
DTSTART:20230205T210000Z
DTEND:20230210T205900Z
SUMMARY:Diş Hekimliği Fakültesi Son Sınıflar 1. Yarıyıl Yarıyıllık Derslerin Bütünleme Sınav Tarihleri
DESCRIPTION:
END:VEVENT
END:VCALENDAR
