BEGIN:VCALENDAR
VERSION:2.0
PRODID:-//calendar/web//NONSGML v1.0//EN
BEGIN:VEVENT
UID:2113
DTSTAMP:20230423T210000Z
DTSTART:20230423T210000Z
DTEND:20230505T205900Z
SUMMARY:Diş Hekimliği Fakültesi 2. Ara Sınav Tarihleri
DESCRIPTION:
END:VEVENT
END:VCALENDAR
