BEGIN:VCALENDAR
VERSION:2.0
PRODID:-//calendar/web//NONSGML v1.0//EN
BEGIN:VEVENT
UID:2114
DTSTAMP:20230507T210000Z
DTSTART:20230507T210000Z
DTEND:20230512T205900Z
SUMMARY:Diş Hekimliği Fakültesi Mazeret Sınav Tarihleri
DESCRIPTION:
END:VEVENT
END:VCALENDAR
