BEGIN:VCALENDAR
VERSION:2.0
PRODID:-//calendar/web//NONSGML v1.0//EN
BEGIN:VEVENT
UID:2116
DTSTAMP:20230604T210000Z
DTSTART:20230604T210000Z
DTEND:20230623T205900Z
SUMMARY:Diş Hekimliği Fakültesi Yıl Sonu Sınavı Tarihleri
DESCRIPTION:
END:VEVENT
END:VCALENDAR
