BEGIN:VCALENDAR
VERSION:2.0
PRODID:-//calendar/web//NONSGML v1.0//EN
BEGIN:VEVENT
UID:2118
DTSTAMP:20230702T210000Z
DTSTART:20230702T210000Z
DTEND:20230721T205900Z
SUMMARY:Diş Hekimliği Fakültesi Bütünleme Sınavı Tarihleri
DESCRIPTION:
END:VEVENT
END:VCALENDAR
