BEGIN:VCALENDAR
VERSION:2.0
PRODID:-//calendar/web//NONSGML v1.0//EN
BEGIN:VEVENT
UID:2119
DTSTAMP:20230815T210000Z
DTSTART:20230815T210000Z
DTEND:20230816T205900Z
SUMMARY:Diş Hekimliği Fakültesi Tek Ders Sınav Tarihleri
DESCRIPTION:
END:VEVENT
END:VCALENDAR
