BEGIN:VCALENDAR
VERSION:2.0
PRODID:-//calendar/web//NONSGML v1.0//EN
BEGIN:VEVENT
UID:2120
DTSTAMP:20221002T210000Z
DTSTART:20221002T210000Z
DTEND:20230115T205900Z
SUMMARY:Hukuk Fakültesi -Yıllık Güz Yarıyılı Dersler
DESCRIPTION:
END:VEVENT
END:VCALENDAR
