BEGIN:VCALENDAR
VERSION:2.0
PRODID:-//calendar/web//NONSGML v1.0//EN
BEGIN:VEVENT
UID:2123
DTSTAMP:20230115T210000Z
DTSTART:20230115T210000Z
DTEND:20230205T205900Z
SUMMARY:Hukuk Fakültesi - Yıllık Ara Sınav Dönemi
DESCRIPTION:
END:VEVENT
END:VCALENDAR
