BEGIN:VCALENDAR
VERSION:2.0
PRODID:-//calendar/web//NONSGML v1.0//EN
BEGIN:VEVENT
UID:2127
DTSTAMP:20230414T210000Z
DTSTART:20230414T210000Z
DTEND:20230415T205900Z
SUMMARY:Hukuk Fakültesi-Yıllık Ara Sınav Mazeret Notlarının İlanı İçin Son Gün
DESCRIPTION:
END:VEVENT
END:VCALENDAR
