BEGIN:VCALENDAR
VERSION:2.0
PRODID:-//calendar/web//NONSGML v1.0//EN
BEGIN:VEVENT
UID:2128
DTSTAMP:20230402T210000Z
DTSTART:20230402T210000Z
DTEND:20230407T205900Z
SUMMARY:Hukuk Fakültesi-Yıllık Ara Sınav Mazeret Sınavı Dönemi
DESCRIPTION:
END:VEVENT
END:VCALENDAR
