BEGIN:VCALENDAR
VERSION:2.0
PRODID:-//calendar/web//NONSGML v1.0//EN
BEGIN:VEVENT
UID:2129
DTSTAMP:20230723T210000Z
DTSTART:20230723T210000Z
DTEND:20230804T205900Z
SUMMARY:Hukuk Fakültesi-Yıllık-Bütünleme Sınav Dönemi
DESCRIPTION:
END:VEVENT
END:VCALENDAR
