BEGIN:VCALENDAR
VERSION:2.0
PRODID:-//calendar/web//NONSGML v1.0//EN
BEGIN:VEVENT
UID:2131
DTSTAMP:20230611T210000Z
DTSTART:20230611T210000Z
DTEND:20230709T205900Z
SUMMARY:Hukuk Fakültesi-Yıllık Yıl Sonu Sınavı Dönemi
DESCRIPTION:
END:VEVENT
END:VCALENDAR
