BEGIN:VCALENDAR
VERSION:2.0
PRODID:-//calendar/web//NONSGML v1.0//EN
BEGIN:VEVENT
UID:2132
DTSTAMP:20230827T210000Z
DTSTART:20230827T210000Z
DTEND:20230901T205900Z
SUMMARY:Hukuk Fakültesi- Yıllık- Üç Ders Sınavı 
DESCRIPTION:
END:VEVENT
END:VCALENDAR
