BEGIN:VCALENDAR
VERSION:2.0
PRODID:-//calendar/web//NONSGML v1.0//EN
BEGIN:VEVENT
UID:2154
DTSTAMP:20230702T210000Z
DTSTART:20230702T210000Z
DTEND:20230710T205900Z
SUMMARY:Tıp Fakültesi 4. Sınıflar Bahar Bütünleme Sınav Tarihleri
DESCRIPTION:
END:VEVENT
END:VCALENDAR
