BEGIN:VCALENDAR
VERSION:2.0
PRODID:-//calendar/web//NONSGML v1.0//EN
BEGIN:VEVENT
UID:2155
DTSTAMP:20230709T210000Z
DTSTART:20230709T210000Z
DTEND:20230721T205900Z
SUMMARY:Tıp Fakültesi 1.,2.,3. Sınıflar Bahar Bütünleme Sınav Tarihleri
DESCRIPTION:
END:VEVENT
END:VCALENDAR
