BEGIN:VCALENDAR
VERSION:2.0
PRODID:-//calendar/web//NONSGML v1.0//EN
BEGIN:VEVENT
UID:2170
DTSTAMP:20230122T210000Z
DTSTART:20230122T210000Z
DTEND:20230127T205900Z
SUMMARY:Diş Hekimliği Fakültesi Son Sınıflar 1. Yarıyıl Yarıyıllık Derslerin Yarıyıl Sonu Sınav Tarihleri
DESCRIPTION:
END:VEVENT
END:VCALENDAR
