BEGIN:VCALENDAR
VERSION:2.0
PRODID:-//calendar/web//NONSGML v1.0//EN
BEGIN:VEVENT
UID:2227
DTSTAMP:20220911T210000Z
DTSTART:20220911T210000Z
DTEND:20221002T205900Z
SUMMARY:Güz Yarıyılı Öğrenci Katkı Payının Yatırılması
DESCRIPTION:
END:VEVENT
END:VCALENDAR
